Workbook

Sheet 01.TCD
AD1: Biểu số: 01/TCD
A2: TỔNG HỢP KẾT QUẢ TIẾP CÔNG DÂN THƯỜNG XUYÊN, ĐỊNH KỲ VÀ ĐỘT XUẤT
I3: 45853 | O3: 45883
I4: (Kèm theo Báo cáo số | M4: …./BC-… | O4: ngày | P4: 45884 | S4: của | T4: =A10&")" -> UBND xã A)
A5: Đơn vị | B5: Tổng số lượt tiếp | C5: Tổng số người được tiếp | D5: Tổng số vụ việc tiếp | E5: Tiếp thường xuyên | M5: Tiếp định kỳ và đột xuất của Thủ trưởng
E6: Số lượt tiếp | F6: Số người được tiếp | G6: Số vụ việc | I6: Trong đó đoàn đông người | M6: Thủ trưởng tiếp | V6: Ủy quyền tiếp
G7: Tiếp lần đầu | H7: Tiếp nhiều lần | I7: Số đoàn được tiếp | J7: Số người được tiếp | K7: Số vụ việc tiếp lần đầu | L7: Số vụ việc tiếp nhiều lần | M7: Số kỳ tiếp | N7: Số lượt tiếp | O7: Số người được tiếp | P7: Số vụ việc | R7: Trong đó đoàn đông người | V7: Số kỳ tiếp | W7: Số lượt tiếp | X7: Số người được tiếp | Y7: Số vụ việc | AA7: Trong đó đoàn đông người
P8: Tiếp lần đầu | Q8: Tiếp nhiều lần | R8: Số đoàn được tiếp | S8: Số người được tiếp | T8: Số vụ việc tiếp lần đầu | U8: Số vụ việc tiếp nhiều lần | Y8: Tiếp lần đầu | Z8: Tiếp nhiều lần | AA8: Số đoàn được tiếp | AB8: Số người được tiếp | AC8: Số vụ việc tiếp lần đầu | AD8: Số vụ việc tiếp nhiều lần | AE8: Ngày báo cáo | AF8: Ngày tính số liệu | AG8: Ngày kết thúc dữ liệu | AH8: Số báo cáo | AI8: Loại đơn vị
A9: MS | B9: 1=4+13+22 | C9: 2=5+14+23 | D9: 3=6+7+15+16+24+25 | E9: 4 | F9: 5 | G9: 6 | H9: 7 | I9: 8 | J9: 9 | K9: 10 | L9: 11 | M9: 12 | N9: 13 | O9: 14 | P9: 15 | Q9: 16 | R9: 17 | S9: 18 | T9: 19 | U9: 20 | V9: 21 | W9: 22 | X9: 23 | Y9: 24 | Z9: 25 | AA9: 26 | AB9: 27 | AC9: 28 | AD9: 29
A10: UBND xã A | B10: =E10+N10+W10 -> 0 | C10: =F10+O10+X10 -> 0 | D10: =G10+H10+P10+Q10+Y10+Z10 -> 0 | E10: 0 | F10: 0 | G10: 0 | H10: 0 | I10: 0 | J10: 0 | K10: 0 | L10: 0 | M10: 0 | N10: 0 | O10: 0 | P10: 0 | Q10: 0 | R10: 0 | S10: 0 | T10: 0 | U10: 0 | V10: 0 | W10: 0 | X10: 0 | Y10: 0 | Z10: 0 | AA10: 0 | AB10: 0 | AC10: 0 | AD10: 0 | AE10: =P4 -> 45884 | AF10: =I3 -> 45853 | AG10: =O3 -> 45883 | AH10: ='01.TCD'!$M$4 -> …./BC-… | AI10: =IF(OR(ISNUMBER(SEARCH("Sở",'01.TCD'!$A$10)),ISNUMBER(SEARCH("Ban",'01.TCD'!$A$10)),ISNUMBER(SEARCH("Thanh tra",'01.TCD'!$A$10))),"Sở, ngành",IF(ISNUMBER(SEARCH("UBND",'01.TCD'!$A$10)),"Cấp xã","Khác")) -> Cấp xã
A12: 30. Ghi chú:
A13: Hướng dẫn cách ghi biểu:
A14: - Đây là Biểu tổng hợp kết quả chung về tiếp công dân qua công tác tiếp dân thường xuyên, định kỳ và đột xuất của thủ trưởng
A15: - Cột "Đơn vị" để ghi tên các đơn vị trực thuộc
A16: - Cột (1) = (4) + (13) + (22) là Tổng số lượt tiếp, gồm số lượt tiếp thường xuyên và số lượt tiếp của thủ trưởng (trực tiếp hoặc ủy quyền tiếp)
A17: - Cột (2) = (5) + (14) + (23) là Tổng số người được tiếp, bao gồm tiếp thường xuyên và tiếp của thủ trưởng (trực tiếp hoặc ủy quyền tiếp)
A18: - Cột (3) = (6) + (7) + (15) + (16) + (24) + (25): là Tổng số vụ việc tiếp, gồm số vụ việc tiếp thường xuyên và số vụ việc thủ trưởng tiếp (trực tiếp hoặc ủy quyền tiếp)
A19: - Vụ việc tiếp nhiều lần là vụ việc tiếp từ hai lần trở lên: các Cột (7),(11),(16),(20),(25),(29)
A20: - Đoàn đông người là đoàn có từ 5 người trở lên
A21: - Đối với vụ việc tiếp công dân thường xuyên có thủ trưởng tiếp thì chỉ nhập số liệu 1 lần vào mục thủ trưởng tiếp
A22: - Cột (6): Số vụ việc tiếp lần đầu thông qua hoạt động tiếp công dân thường xuyên, bao gồm cả số vụ việc tiếp lần đầu đối với đoàn đông người (cột 10)
A23: - Cột (7): Số vụ việc tiếp từ lần thứ hai trở lên thông qua hoạt động tiếp công dân thường xuyên, bao gồm cả số vụ việc tiếp nhiều lần đối với đoàn đông người (cột 11)
... A25: - Nội dung ghi chú viết vào dòng 30 (nếu có)

Sheet 01.XLD
U1: Biểu số: 01/XLD
A2: TỔNG HỢP KẾT QUẢ XỬ LÝ ĐƠN
H3: ='01.TCD'!$I$3 -> 45853 | M3: ='01.TCD'!$O$3 -> 45883
G4: ='01.TCD'!$I$4 -> (Kèm theo Báo cáo số | J4: ='01.TCD'!$M$4 -> …./BC-… | M4: ='01.TCD'!O4 -> ngày | N4: ='01.TCD'!$P$4 -> 45884 | P4: của | Q4: ='01.TCD'!$T$4 -> UBND xã A)
A5: Đơn vị | B5: Tổng số đơn phải xử lý | E5: Số đơn đã xử lý | F5: Số đơn chưa xử lý (chuyển kỳ sau xử lý) | G5: Đủ điều kiện xử lý | I5: Phân loại đơn theo nội dung | L5: Phân loại đơn theo tình trạng giải quyết | O5: Kết quả xử lý đơn | W5: Số văn bản phúc đáp nhận được do chuyển đơn
B6: Tổng số | C6: Kỳ trước chuyển sang | D6: Tiếp nhận trong kỳ | G6: Số đơn | H6: Số vụ việc | I6: Khiếu nại | J6: Tố cáo | K6: Kiến nghị, phản ánh | L6: Đã giải quyết | N6: Chưa giải quyết xong | O6: Đơn thuộc thẩm quyền | S6: Đơn không thuộc thẩm quyền
L7: Lần đầu | M7: Nhiều lần | O7: Tổng số | P7: Khiếu nại | Q7: Tố cáo | R7: Kiến nghị, phản ánh | S7: Tổng số | T7: Hướng dẫn | U7: Chuyển đơn | V7: Đôn đốc giải quyết
X8: Ngày báo cáo | Y8: Ngày tính số liệu | Z8: Ngày kết thúc dữ liệu | AA8: Số báo cáo | AB8: Loại đơn vị
A9: MS | B9: 1= 2+3 = 4+5 | C9: 2 | D9: 3 | E9: 4 | F9: 5 | G9: 6 = 8+9+10 = 11+12+13 = 14+18 | H9: 7 | I9: 8 | J9: 9 | K9: 10 | L9: 11 | M9: 12 | N9: 13 | O9: 14=15+16+17 | P9: 15 | Q9: 16 | R9: 17 | S9: 18=19+20+21 | T9: 19 | U9: 20 | V9: 21 | W9: 22
A11: ='01.TCD'!A10 -> UBND xã A | B11: =C11+D11 -> 0 | C11: 0 | D11: 0 | E11: 0 | F11: 0 | G11: 0 | H11: 0 | I11: 0 | J11: 0 | K11: 0 | L11: 0 | M11: 0 | N11: 0 | O11: =SUM(P11:R11) -> 0 | P11: 0 | Q11: 0 | R11: 0 | S11: =T11+U11+V11 -> 0 | T11: 0 | U11: 0 | V11: 0 | W11: 0 | X11: ='01.TCD'!$AE$10 -> 45884 | Y11: ='01.TCD'!$AF$10 -> 45853 | Z11: ='01.TCD'!$AG$10 -> 45883 | AA11: ='01.TCD'!$M$4 -> …./BC-… | AB11: =IF(OR(ISNUMBER(SEARCH("Sở",'01.TCD'!$A$10)),ISNUMBER(SEARCH("Ban",'01.TCD'!$A$10)),ISNUMBER(SEARCH("Thanh tra",'01.TCD'!$A$10))),"Sở, ngành",IF(ISNUMBER(SEARCH("UBND",'01.TCD'!$A$10)),"Cấp xã","Khác")) -> Cấp xã
B12: =IF(AND(B11=SUM(C11:D11),B11=SUM(E11:F11)),"","Xem lại") | E12: =IF(E11>B11,"Xem lại","") | G12: =IF(AND(G11=SUM(I11:K11),G11=SUM(L11:N11),G11=(O11+S11)),"","Xem lại") | H12: =IF(H11<>('02.XLD'!I9+'03.XLD'!I9+'04.XLD'!I9),"Xem lại","") | I12: =IF(I11<>'02.XLD'!H9,"Xem lại","") | J12: =IF(J11<>'03.XLD'!H9,"Xem lại","")
A13: 23. Ghi chú:
A14: Hướng dẫn cách ghi biểu
A15: - Đây là biểu tổng hợp về kết quả xử lý đơn chung (đơn KN, TC, KNPA), bao gồm đơn nhận được qua tiếp công dân và đơn nhận từ các nguồn khác (gửi qua dịch vụ chuyển phát, cơ quan khác chuyển, ...)
A16: - Số liệu tại Biểu này là số liệu tổng hợp từ các biểu 02/XLD, 03/XLD, 04/XLD
A17: - Cột "Đơn vị" để ghi tên các đơn vị trực thuộc
A18: - Cột (1) = Cột (2) + (3) = (4) + (5)
A19: - Cột (4): Số đơn đã hoàn thành quy trình xem xét về điều kiện xử lý (kết quả cuối cùng: thụ lý giải quyết, lưu, hướng dẫn, chuyển ...) theo quy định; Cột (4) <= Cột (1)
A20: - Cột (5): Số đơn chưa hoàn thành quy trình xem xét về điều kiện xử lý (chuyển kỳ sau xử lý) theo quy định;
A21: - Cột (6) = Cột (8) + (9) + (10) = Cột (11) + (12) + (13) = Cột (14) + (18)
A22: - Cột (7) = Cột (8) thuộc Biểu 02/XLD + Cột (8) thuộc Biểu 03/XLD + Cột (8) thuộc Biểu 04/XLD
A23: - Từ Cột (8) trở đi là số liệu tổng hợp đối với các đơn đủ điều kiện xử lý (đã thống kê tại Cột (6))
A24: - Cột (8): Số đơn khiến nại đủ điều kiện xử lý = Cột (7) thuộc Biểu 02/XLD
... A33: - Nội dung ghi chú viết vào dòng 23 (nếu có)

Sheet 02.XLD
AA1: Biểu số: 02/XLD
A2: TỔNG HỢP KẾT QUẢ XỬ LÝ ĐƠN KHIẾU NẠI
J3: ='01.TCD'!$I$3 -> 45853 | O3: ='01.TCD'!$O$3 -> 45883
G4: ='01.TCD'!$I$4 -> (Kèm theo Báo cáo số | K4: ='01.TCD'!$M$4 -> …./BC-… | M4: ='01.TCD'!$O$4 -> ngày | N4: ='01.TCD'!$P$4 -> 45884 | P4: của | Q4: ='01.TCD'!$T$4 -> UBND xã A)
A5: Đơn vị | B5: Tổng số đơn phải xử lý | E5: Đơn đã xử lý | H5: Đủ điều kiện xử lý | J5: Phân loại vụ việc khiếu nại theo nội dung | Q5: Phân loại vụ việc khiếu nại theo tình trạng giải quyết | U5: Kết quả xử lý đơn | AA5: Số văn bản phúc đáp nhận được do chuyển đơn
B6: Tổng số | C6: Số đơn kỳ trước chuyển sang | D6: Số đơn tiếp nhận trong kỳ | E6: Tổng | F6: Đơn kỳ trước chuyển sang | G6: Đơn tiếp nhận trong kỳ | H6: Số đơn | I6: Số vụ việc | J6: Lĩnh vực hành chính | N6: Lĩnh vực tư pháp | O6: Lĩnh vực Đảng, đoàn thể | P6: Lĩnh vực khác | Q6: Đã được giải quyết | T6: Chưa giải quyết xong | U6: Vụ việc thuộc thẩm quyền | X6: Vụ việc không thuộc thẩm quyền
J7: Tổng | K7: Chế độ, chính sách | L7: Đất đai, nhà cửa | M7: Khác | Q7: Lần đầu | R7: Lần 2 | S7: Đã có bản án của TAND | U7: Tổng | V7: Lần đầu | W7: Lần 2 | X7: Tổng | Y7: Hướng dẫn | Z7: Đôn đốc giải quyết | AB7: Ngày báo cáo | AC7: Ngày tính số liệu | AD7: Ngày kết thúc dữ liệu | AE7: Số báo cáo | AF7: Loại đơn vị
A8: MS | B8: 1=2+3 | C8: 2 | D8: 3 | E8: 4=5+6 | F8: 5 | G8: 6 | H8: 7 | I8: 8 | J8: 9 = 10+11+12 | K8: 10 | L8: 11 | M8: 12 | N8: 13 | O8: 14 | P8: 15 | Q8: 16 | R8: 17 | S8: 18 | T8: 19 | U8: 20=21+22 | V8: 21 | W8: 22 | X8: 23=24+25 | Y8: 24 | Z8: 25 | AA8: 26
A9: ='01.TCD'!A10 -> UBND xã A | B9: =C9+D9 -> 0 | C9: 0 | D9: 0 | E9: =F9+G9 -> 0 | F9: 0 | G9: 0 | H9: ='01.XLD'!I11 -> 0 | I9: 0 | J9: =K9+L9+M9 -> 0 | K9: 0 | L9: 0 | M9: 0 | N9: 0 | O9: 0 | P9: 0 | Q9: 0 | R9: 0 | S9: 0 | T9: 0 | U9: =V9+W9 -> 0 | V9: 0 | W9: 0 | X9: =Y9+Z9 -> 0 | Y9: 0 | Z9: 0 | AA9: 0 | AB9: ='01.TCD'!$AE$10 -> 45884 | AC9: ='01.TCD'!$AF$10 -> 45853 | AD9: ='01.TCD'!$AG$10 -> 45883 | AE9: ='01.TCD'!$M$4 -> …./BC-… | AF9: =IF(OR(ISNUMBER(SEARCH("Sở",'01.TCD'!$A$10)),ISNUMBER(SEARCH("Ban",'01.TCD'!$A$10)),ISNUMBER(SEARCH("Thanh tra",'01.TCD'!$A$10))),"Sở, ngành",IF(ISNUMBER(SEARCH("UBND",'01.TCD'!$A$10)),"Cấp xã","Khác")) -> Cấp xã
H10: =IF(H9<>'01.XLD'!I11,"Xem lại","") | I10: =IF(AND(I9=SUM(J9+N9+O9+P9),I9=SUM(Q9:T9),I9=(U9+X9)),"","Xem lại")
A11: 27. Ghi chú:
A12: Hướng dẫn cách ghi biểu
A13: - Đây là biểu chi tiết về kết quả xử lý đơn khiếu nại nhận được qua tiếp công dân và nhận từ các nguồn khác (gửi qua dịch vụ chuyển phát, cơ quan khác chuyển, ...)
A14: - Số liệu tại Biểu này nằm trong số liệu tổng hợp tại Biểu 01/XLD
A15: - Cột (1) = (2) + (3)
A16: - Cột (4) = (5) + (6): Là tổng số đơn khiếu nại đã hoàn thành quy trình xử lý (ra kết quả cuối cùng) theo quy định, nêu tại các cột từ (20)-(25)
A17: - Cột (7) = Cột (8) ở Biểu số 01/XLD
A18: - Cột (8): Số vụ việc đủ điều kiện xử lý = (9) + (13) + (14) + (15) = (16) + (17) + (18) + (19) = (20) + (23)
A19: - Từ Cột (9) trở đi là số liệu tổng hợp đối với các vụ việc khiếu nại đủ điều kiện xử lý (thống kê tại Cột (8))
A20: - Cột (10) Chế độ, chính sách như: việc thực hiện chế độ chính sách đối với người lao động, người có công,...
A21: - Cột (11) Đất đai, nhà cửa như: Bồi thường, hỗ trợ, tái định cư, cấp giấy chứng nhận QSDT, thu hồi, đòi đất, nhà,…
A22: - Cột (13) Lĩnh vực tư pháp như: Điều tra, truy tố, xét xử, thi hành án,…
... A32: - Nội dung ghi chú viết vào dòng 27 (nếu có)

Sheet 03.XLD
AB1: Biểu số: 03/XLD
A2: TỔNG HỢP KẾT QUẢ XỬ LÝ ĐƠN TỐ CÁO
I3: ='01.TCD'!$I$3 -> 45853 | O3: ='01.TCD'!$O$3 -> 45883
I4: ='01.TCD'!$I$4 -> (Kèm theo Báo cáo số | L4: ='01.TCD'!$M$4 -> …./BC-… | O4: ='01.TCD'!$O$4 -> ngày | P4: ='01.TCD'!$P$4 -> 45884 | R4: của | S4: ='01.TCD'!$T$4 -> UBND xã A)
A5: Đơn vị | B5: Tổng số đơn phải xử lý | E5: Đơn đã xử lý | H5: Đủ điều kiện xử lý | J5: Phân loại vụ việc tố cáo theo nội dung | S5: Phân loại vụ việc tố cáo theo tình trạng giải quyết | V5: Kết quả xử lý đơn | AB5: Số văn bản phúc đáp nhận được do chuyển đơn
B6: Tổng số | C6: Đơn kỳ trước chuyển sang | D6: Đơn tiếp nhận trong kỳ | E6: Tổng | F6: Đơn kỳ trước chuyển sang | G6: Đơn tiếp nhận trong kỳ | H6: Số đơn | I6: Số vụ việc | J6: Lĩnh vực hành chính | O6: Tham nhũng | P6: Lĩnh vực Tư pháp | Q6: Lĩnh vực Đảng, đoàn thể | R6: Lĩnh vực khác | S6: Tố cáo tiếp | U6: Chưa giải quyết | V6: Vụ việc thuộc thẩm quyền | Y6: Vụ việc không thuộc thẩm quyền
J7: Tổng cộng | K7: Chế độ, chính sách | L7: Đất đai, nhà cửa | M7: Công chức, công vụ | N7: Khác | S7: Quá thời hạn chưa giải quyết | T7: Đã có kết luận giải quyết | V7: Tổng số | W7: Tố cáo lần đầu | X7: Tố cáo tiếp | Y7: Tổng số | Z7: Chuyển đơn | AA7: Đôn đốc giải quyết | AC7: Ngày báo cáo | AD7: Ngày tính số liệu | AE7: Ngày kết thúc dữ liệu | AF7: Số báo cáo | AG7: Loại đơn vị
A8: MS | B8: 1= 2+3 | C8: 2 | D8: 3 | E8: 4=5+6 | F8: 5 | G8: 6 | H8: 7 | I8: 8=9+14+15+16+17=18+19+20=21+24 | J8: 9=10+11+12+13 | K8: 10 | L8: 11 | M8: 12 | N8: 13 | O8: 14 | P8: 15 | Q8: 16 | R8: 17 | S8: 18 | T8: 19 | U8: 20 | V8: 21=22+23 | W8: 22 | X8: 23 | Y8: 24=25+26 | Z8: 25 | AA8: 26 | AB8: 27
A9: ='01.TCD'!A10 -> UBND xã A | B9: =C9+D9 -> 0 | C9: 0 | D9: 0 | E9: =F9+G9 -> 0 | F9: 0 | G9: 0 | H9: ='01.XLD'!J11 -> 0 | I9: 0 | J9: =SUM(K9:N9) -> 0 | K9: 0 | L9: 0 | M9: 0 | N9: 0 | O9: 0 | P9: 0 | Q9: 0 | R9: 0 | S9: 0 | T9: 0 | U9: 0 | V9: =W9+X9 -> 0 | W9: 0 | X9: 0 | Y9: =Z9+AA9 -> 0 | Z9: 0 | AA9: 0 | AB9: 0 | AC9: ='01.TCD'!$AE$10 -> 45884 | AD9: ='01.TCD'!$AF$10 -> 45853 | AE9: ='01.TCD'!$AG$10 -> 45883 | AF9: ='01.TCD'!$M$4 -> …./BC-… | AG9: =IF(OR(ISNUMBER(SEARCH("Sở",'01.TCD'!$A$10)),ISNUMBER(SEARCH("Ban",'01.TCD'!$A$10)),ISNUMBER(SEARCH("Thanh tra",'01.TCD'!$A$10))),"Sở, ngành",IF(ISNUMBER(SEARCH("UBND",'01.TCD'!$A$10)),"Cấp xã","Khác")) -> Cấp xã
I10: =IF(AND(I9=(J9+O9+P9+Q9+R9),I9=(S9+T9+U9),I9=(V9+Y9)),"","Xem lại")
A11: 28. Ghi chú:
A12: Hướng dẫn cách ghi biểu
A13: - Đây là biểu chi tiết về kết quả xử lý đơn tố cáo, bao gồm đơn tố cáo nhận được qua tiếp công dân và nhận từ các nguồn khác
A14: - Số liệu tại Biểu này nằm trong số liệu tổng hợp tại Biểu 01/XLD
A15: - Cột (1) = Cột (2) + (3)
A16: - Cột (4) = (5) + (6): Là tổng số đơn tố cáo đã hoàn thành quy trình xử lý (ra kết quả cuối cùng) theo quy định, nêu tại các cột từ (21)-(26)
A17: - Cột (7) = Cột (9) ở Biểu 01/XLD
A18: - Cột (8) = (9) + (14) + (15) + (16) + (17) = (18) + (19) + (20) = (21) + (24)
A19: - Từ Cột (9) trở đi là số liệu tổng hợp đối với các vụ việc tố cáo đủ điều kiện xử lý (thống kê tại Cột (8))
A20: - Cột (10) Chế độ, chính sách như: việc thực hiện chế độ chính sách đối với người lao động, người có công,...
A21: - Cột (11) Đất đai, nhà cửa như: Bồi thường, hỗ trợ, tái định cư, cấp giấy chứng nhận QSDT, thu hồi, đòi đất, nhà,…
A22: - Cột (15) Lĩnh vực tư pháp như: Điều tra, truy tố, xét xử, thi hành án,…
... A28: - Nội dung ghi chú viết vào dòng 28 (nếu có)

Sheet 04.XLD
U1: Biểu số: 04/XLD
A2: TỔNG HỢP KẾT QUẢ XỬ LÝ, GIẢI QUYẾT ĐƠN KIẾN NGHỊ, PHẢN ÁNH
G3: ='01.TCD'!$I$3 -> 45853 | N3: ='01.TCD'!$O$3 -> 45883
F4: ='01.TCD'!$I$4 -> (Kèm theo Báo cáo số | J4: ='01.TCD'!$M$4 -> …./BC-… | L4: ='01.TCD'!$O$4 -> ngày | M4: ='01.TCD'!$P$4 -> 45884 | O4: của | P4: ='01.TCD'!$T$4 -> UBND xã A)
A5: Đơn vị | B5: Tổng số đơn phải xử lý | E5: Đơn đã xem xét về điều kiện xử lý | H5: Đơn đủ điều kiện xử lý | J5: Phân loại vụ việc theo nội dung | N5: Phân loại vụ việc theo tình trạng giải quyết | P5: Kết quả xử lý đơn | T5: Kết quả giải quyết vụ việc thuộc thẩm quyền
B6: Tổng số đơn | C6: Số đơn kỳ trước chuyển sang | D6: Số đơn tiếp nhận kỳ | E6: Tổng số | F6: Đơn kỳ trước chuyển sang | G6: Đơn tiếp nhận trong kỳ | H6: Số đơn | I6: Số vụ việc | J6: Chế độ, chính sách | K6: Đất đai | L6: Tư pháp | M6: Khác | N6: Đã được giải quyết | O6: Chưa được giải quyết | P6: Vụ việc thuộc thẩm quyền | Q6: Vụ việc không thuộc thẩm quyền | T6: Số vụ việc đã giải quyết | U6: Số vụ việc chưa giải quyết
Q7: Tổng số | R7: Chuyển đơn | S7: Đôn đốc giải quyết | V7: Ngày báo cáo | W7: Ngày tính số liệu | X7: Ngày kết thúc dữ liệu | Y7: Số báo cáo | Z7: Loại đơn vị
A8: MS | B8: 1=2+3 | C8: 2 | D8: 3 | E8: 4=5+6 | F8: 5 | G8: 6 | H8: 7 | I8: 8=9+10+11+12= 13+14 = 15+16 | J8: 9 | K8: 10 | L8: 11 | M8: 12 | N8: 13 | O8: 14 | P8: 15 | Q8: 16 = 17+18 | R8: 17 | S8: 18 | T8: 19 | U8: 20
A9: ='01.TCD'!A10 -> UBND xã A | B9: =C9+D9 -> 0 | C9: 0 | D9: 0 | E9: =F9+G9 -> 0 | F9: 0 | G9: 0 | H9: ='01.XLD'!K11 -> 0 | I9: 0 | J9: 0 | K9: 0 | L9: 0 | M9: 0 | N9: 0 | O9: 0 | P9: 0 | Q9: =R9+S9 -> 0 | R9: 0 | S9: 0 | T9: 0 | U9: 0 | V9: ='01.TCD'!$AE$10 -> 45884 | W9: ='01.TCD'!$AF$10 -> 45853 | X9: ='01.TCD'!$AG$10 -> 45883 | Y9: ='01.TCD'!$M$4 -> …./BC-… | Z9: =IF(OR(ISNUMBER(SEARCH("Sở",'01.TCD'!$A$10)),ISNUMBER(SEARCH("Ban",'01.TCD'!$A$10)),ISNUMBER(SEARCH("Thanh tra",'01.TCD'!$A$10))),"Sở, ngành",IF(ISNUMBER(SEARCH("UBND",'01.TCD'!$A$10)),"Cấp xã","Khác")) -> Cấp xã
I10: =IF(AND(I9=SUM(J9:M9),I9=SUM(N9:O9),I9=(P9+Q9)),"","Xem lại")
A11: 21. Ghi chú:
A12: Hướng dẫn cách ghi biểu
A13: - Đây là biểu chi tiết về kết quả xử lý đơn KN, PA nhận được qua tiếp công dân và nhận từ các nguồn khác (gửi qua dịch vụ chuyển phát, cơ quan khác chuyển, ...)
A14: - Số liệu tại Biểu này nằm trong số liệu tổng hợp tại Biểu 01/XLD
A15: - Cột (1) = Cột (2) + (3)
A16: - Cột (4) = Cột (5) + (6): Là tổng số đơn KN, PA đã được xem xét về điều kiện xử lý (đủ hay không đủ điều kiện xử lý)
A17: - Cột (7) = Cột (10) ở Biểu 01/XLD
A18: - Cột (8) = Cột (9) + (10) + (11) + (12) = Cột (13) + (14) = Cột (15) + (16)
A19: - Từ Cột (9) trở đi là số liệu tổng hợp đối với các vụ việc KN, PA đủ điều kiện xử lý (thống kê tại Cột (8))
A20: - Cột (13): Khi tiếp nhận đơn, vụ việc đã được cơ quan có thẩm quyền giải quyết và có kết luận, trả lời người KN, PA
A21: - Cột (14): Khi tiếp nhận đơn, vụ việc chưa được giải quyết hoặc đã được thụ lý, giải quyết nhưng chưa hoàn thành việc giải quyết KN, PA
A22: - Cột (15): Tổng số vụ việc KN, PA thuộc thẩm quyền giải quyết
... A28: - Nội dung ghi chú viết vào dòng 21 (nếu có)

Sheet 01.KQGQ
AA1: Biểu số: 01/KQGQ
A2: TỔNG HỢP KẾT QUẢ GIẢI QUYẾT KHIẾU NẠI THUỘC THẨM QUYỀN
H3: ='01.TCD'!$I$3 -> 45853 | O3: ='01.TCD'!$O$3 -> 45883
G4: ='01.TCD'!$I$4 -> (Kèm theo Báo cáo số | K4: ='01.TCD'!$M$4 -> …./BC-… | M4: ='01.TCD'!$O$4 -> ngày | N4: ='01.TCD'!$P$4 -> 45884 | P4: của | Q4: ='01.TCD'!$T$4 -> UBND xã A)
AA5: Đơn vị tính: Tiền (triệu đồng), đất (m2)
A6: Đơn vị | B6: Đơn khiếu nại thuộc thẩm quyền | E6: Tổng số vụ việc khiếu nại thuộc thẩm quyền | F6: Kết quả giải quyết | U6: Phân tích kết quả giải quyết (vụ việc)
B7: Tổng số | C7: Kỳ trước chuyển sang | D7: Tiếp nhận trong kỳ | F7: Đã giải quyết | H7: Kiến nghị thu hồi cho Nhà nước | J7: Trả lại cho tổ chức, cá nhân | P7: Kiến nghị xử lý hành chính | R7: Chuyển cơ quan điều tra | U7: Giải quyết lần đầu | X7: Giải quyết lần 2 | Z7: Chấp hành thời hạn giải quyết
F8: Số vụ việc giải quyết bằng QĐ hành chính | G8: Số vụ việc rút đơn thông qua giải thích, thuyết phục | H8: Tiền (Trđ) | I8: Đất (m2) | J8: Tổ chức | L8: Cá nhân | N8: Số tổ chức được trả lại quyền lợi | O8: Số cá nhân được trả lại quyền lợi | P8: Tổng số người bị kiến nghị xử lý | Q8: Trong đó số cán bộ, công chức, viên chức | R8: Số vụ | S8: Tổng số người | T8: Trong đó số cán bộ, công chức, viên chức | U8: Khiếu nại đúng | V8: Khiếu nại sai | W8: Khiếu nại đúng một phần | X8: Công nhận QĐ g/q lần đầu | Y8: Hủy, sửa QĐ g/q lần đầu | Z8: Đúng quy định | AA8: Không đúng quy định
J9: Tiền (Trđ) | K9: Đất (m2) | L9: Tiền (Trđ) | M9: Đất (m2)
AB10: Ngày báo cáo | AC10: Ngày tính số liệu | AD10: Ngày kết thúc dữ liệu | AE10: Số báo cáo | AF10: Loại đơn vị
A11: MS | B11: 1=2+3 | C11: 2 | D11: 3 | E11: 4 | F11: 5=20+21+22+23+24 | G11: 6 | H11: 7 | I11: 8 | J11: 9 | K11: 10 | L11: 11 | M11: 12 | N11: 13 | O11: 14 | P11: 15 | Q11: 16 | R11: 17 | S11: 18 | T11: 19 | U11: 20 | V11: 21 | W11: 22 | X11: 23 | Y11: 24 | Z11: 25 | AA11: 26
A12: ='01.TCD'!A10 -> UBND xã A | B12: =C12+D12 -> 0 | C12: 0 | D12: 0 | E12: ='02.XLD'!U9 -> 0 | F12: =SUM(U12:Y12) -> 0 | G12: 0 | H12: 0 | I12: 0 | J12: 0 | K12: 0 | L12: 0 | M12: 0 | N12: 0 | O12: 0 | P12: 0 | Q12: 0 | R12: 0 | S12: 0 | T12: 0 | U12: 0 | V12: 0 | W12: 0 | X12: 0 | Y12: 0 | Z12: 0 | AA12: 0 | AB12: ='01.TCD'!$AE$10 -> 45884 | AC12: ='01.TCD'!$AF$10 -> 45853 | AD12: ='01.TCD'!$AG$10 -> 45883 | AE12: ='01.TCD'!$M$4 -> …./BC-… | AF12: =IF(OR(ISNUMBER(SEARCH("Sở",'01.TCD'!$A$10)),ISNUMBER(SEARCH("Ban",'01.TCD'!$A$10)),ISNUMBER(SEARCH("Thanh tra",'01.TCD'!$A$10))),"Sở, ngành",IF(ISNUMBER(SEARCH("UBND",'01.TCD'!$A$10)),"Cấp xã","Khác")) -> Cấp xã
B13: =IF(B12<>'01.XLD'!P11,"Xem lại","") | Q13: =IF(Q12>P12,"Xem lại","") | T13: =IF(T12>S12,"Xem lại","")
A14: 27. Ghi chú:
A15: Hướng dẫn cách ghi biểu
A16: - Cột "Đơn vị" để ghi tên các đơn vị trực thuộc
A17: - Cột (1) = Cột (2) + (3) = Cột (15) thuộc Biểu 01/XLD
A18: - Cột (4) = Cột (20) thuộc Biểu 02/XLD
A19: - Cột (5) = Cột (20) + (21) + (22) + (23) + (24)
A20: - Cột (6): Chỉ thống kê các vụ việc rút toàn bộ nội dung; trường hợp không rút toàn bộ thì không thống kê vào cột này
A21: - Từ Cột (7) trở đi là số liệu tổng hợp, phân tích đối với kết quả giải quyết các vụ việc khiếu nại (thống kê tại Cột (5), (6))
A22: - Cột (15): Thống kê số người bị kiến nghị xử lý hành chính do vi phạm liên quan đến khiếu nại và giải quyết khiếu nại
A23: - Cột (16): Thống kê số cán bộ, công chức, viên chức bị kiến nghị xử lý hành chính do vi phạm liên quan đến khiếu nại và giải quyết khiếu nại (<= Cột 15)
A24: - Cột (19): Thống kê số vụ việc bị kiến nghị chuyển cơ quan điều tra tiếp tục xử lý do vi phạm liên quan đến khiếu nại và giải quyết khiếu nại
A25: - Cột (18): Thống kê số đối tượng bị kiến nghị chuyển cơ quan điều tra tiếp tục xử lý do vi phạm liên quan đến khiếu nại và giải quyết khiếu nại
... A29: - Nội dung ghi chú viết vào dòng 27 (nếu có)

Sheet 02.KQGQ
T1: Biểu số: 02/KQGQ
A2: TỔNG HỢP KẾT QUẢ THI HÀNH QUYẾT ĐỊNH GIẢI QUYẾT KHIẾU NẠI
E3: ='01.TCD'!$I$3 -> 45853 | L3: ='01.TCD'!$O$3 -> 45883
D4: ='01.TCD'!$I$4 -> (Kèm theo Báo cáo số | H4: ='01.TCD'!$M$4 -> …./BC-… | J4: ='01.TCD'!$O$4 -> ngày | K4: ='01.TCD'!$P$4 -> 45884 | M4: của | N4: ='01.TCD'!$T$4 -> UBND xã A)
T5: Đơn vị tính: Tiền (triệu đồng), đất (m2)
A6: Đơn vị | B6: Tổng số quyết định phải thực hiện trong kỳ | C6: Số quyết định đã thực hiện xong | D6: Thu hồi cho nhà nước | H6: Trả lại cho tổ chức, cá nhân | P6: Đã xử lý hành chính | R6: Đã khởi tố
D7: Phải thu | F7: Đã thu | H7: Phải trả | L7: Đã trả | P7: Tổng số người bị xử lý | Q7: Trong đó số cán bộ, công chức, viên chức | R7: Số vụ | S7: Số người | T7: Trong đó số cán bộ, công chức, viên chức
D8: Tiền (Trđ) | E8: Đất (m2) | F8: Tiền (Trđ) | G8: Đất (m2) | H8: Tổ chức | J8: Cá nhân | L8: Tổ chức | N8: Cá nhân
H9: Tiền (Trđ) | I9: Đất (m2) | J9: Tiền (Trđ) | K9: Đất (m2) | L9: Tiền (Trđ) | M9: Đất (m2) | N9: Tiền (Trđ) | O9: Đất (m2) | U9: Ngày báo cáo | V9: Ngày tính số liệu | W9: Ngày kết thúc dữ liệu | X9: Số báo cáo | Y9: Loại đơn vị
A10: MS | B10: 1 | C10: 2 | D10: 3 | E10: 4 | F10: 5 | G10: 6 | H10: 7 | I10: 8 | J10: 9 | K10: 10 | L10: 11 | M10: 12 | N10: 13 | O10: 14 | P10: 15 | Q10: 16 | R10: 17 | S10: 18 | T10: 19
A11: ='01.TCD'!A10 -> UBND xã A | B11: 0 | C11: 0 | D11: 0 | E11: 0 | F11: 0 | G11: 0 | H11: 0 | I11: 0 | J11: 0 | K11: 0 | L11: 0 | M11: 0 | N11: 0 | O11: 0 | P11: 0 | Q11: 0 | R11: 0 | S11: 0 | T11: 0 | U11: ='01.TCD'!$AE$10 -> 45884 | V11: ='01.TCD'!$AF$10 -> 45853 | W11: ='01.TCD'!$AG$10 -> 45883 | X11: ='01.TCD'!$M$4 -> …./BC-… | Y11: =IF(OR(ISNUMBER(SEARCH("Sở",'01.TCD'!$A$10)),ISNUMBER(SEARCH("Ban",'01.TCD'!$A$10)),ISNUMBER(SEARCH("Thanh tra",'01.TCD'!$A$10))),"Sở, ngành",IF(ISNUMBER(SEARCH("UBND",'01.TCD'!$A$10)),"Cấp xã","Khác")) -> Cấp xã
A13: 20. Ghi chú:
A14: Hướng dẫn cách ghi biểu
A15: - Cột "Đơn vị" để ghi tên các đơn vị trực thuộc
A16: - Cột (1): Số quyết định giải quyết khiếu nại phải thực hiện trong kỳ, bao gồm số quyết định chưa thực hiện xong của kỳ báo cáo trước chuyển sang và số quyết định ban hành trong kỳ báo cáo phải thực hiện
A17: - Cột (2) Số quyết định giải quyết khiếu nại đã thực hiện xong trong kỳ báo cáo
A18: - Cột (15): Thống kê số người đã xử lý hành chính do vi phạm liên quan đến khiếu nại và giải quyết khiếu nại
A19: - Cột (16): Thống kê số cán bộ, công chức, viên chức đã xử lý hành chính do vi phạm liên quan đến khiếu nại và giải quyết khiếu nại (<= Cột 15)
A20: - Cột (18): Thống kê số người đã khởi tố do vi phạm liên quan đến khiếu nại và giải quyết khiếu nại
A21: - Cột (19): Thống kê số cán bộ, công chức, viên chức đã khởi tố do vi phạm liên quan đến khiếu nại và giải quyết khiếu nại (<= Cột 18)
A22: - Nội dung ghi chú viết vào dòng 20 (nếu có)

Sheet 03.KQGQ
AF1: Biểu số: 03/KQGQ
A2: TỔNG HỢP KẾT QUẢ GIẢI QUYẾT TỐ CÁO THUỘC THẨM QUYỀN
J3: ='01.TCD'!$I$3 -> 45853 | Q3: ='01.TCD'!$O$3 -> 45883
G4: ='01.TCD'!$I$4 -> (Kèm theo Báo cáo số | L4: ='01.TCD'!$M$4 -> …./BC-… | O4: ='01.TCD'!$O$4 -> ngày | P4: ='01.TCD'!$P$4 -> 45884 | R4: của | S4: ='01.TCD'!$T$4 -> UBND xã A)
A6: Đơn vị | B6: Đơn tố cáo thuộc thẩm quyền | E6: Tổng số vụ việc tố cáo thuộc thẩm quyền | F6: Trong đó số vụ việc tố cáo tiếp | G6: Kết quả giải quyết | Y6: Phân tích kết quả giải quyết (vụ việc) | AE6: Chấp hành thời hạn giải quyết
B7: Tổng số | C7: Kỳ trước chuyển sang | D7: Tiếp nhận trong kỳ | G7: Đã giải quyết | L7: Kiến nghị thu hồi cho Nhà nước | N7: Trả lại cho tổ chức, cá nhân | R7: Số tổ chức được trả lại quyền lợi | S7: Số cá nhân được trả lại quyền lợi | T7: Kiến nghị xử lý hành chính | V7: Chuyển cơ quan điều tra | Y7: Tố cáo đúng | Z7: Trong đó tố cáo tiếp đúng | AA7: Tố cáo sai | AB7: Trong đó tố cáo tiếp sai | AC7: Tố cáo có đúng, có sai | AD7: Trong đó tố cáo tiếp có đúng, có sai | AE7: Đúng quy định | AF7: Không đúng quy định
G8: Tổng số | H8: Số vụ việc lần đầu | I8: Số vụ việc tố cáo tiếp | J8: Số vụ việc rút toàn bộ nội dung tố cáo | K8: Số vụ việc đình chỉ không do rút tố cáo | L8: Tiền (Trđ) | M8: Đất (m2) | N8: Tổ chức | P8: Cá nhân | T8: Số người bị kiến nghị xử lý | U8: Trong đó số cán bộ, công chức, viên chức | V8: Số vụ | W8: Số đối tượng | X8: Trong đó số cán bộ, công chức, viên chức
N9: Tiền (Trđ) | O9: Đất (m2) | P9: Tiền (Trđ) | Q9: Đất (m2)
AG10: Ngày báo cáo | AH10: Ngày tính số liệu | AI10: Ngày kết thúc dữ liệu | AJ10: Số báo cáo | AK10: Loại đơn vị
A11: MS | B11: 1=2+3 | C11: 2 | D11: 3 | E11: 4 | F11: 5 | G11: 6=7+8+9+10=30+31>=24+26+28 | H11: 7 | I11: 8=25+27+29 | J11: 9 | K11: 10 | L11: 11 | M11: 12 | N11: 13 | O11: 14 | P11: 15 | Q11: 16 | R11: 17 | S11: 18 | T11: 19 | U11: 20 | V11: 21 | W11: 22 | X11: 23 | Y11: 24 | Z11: 25 | AA11: 26 | AB11: 27 | AC11: 28 | AD11: 29 | AE11: 30 | AF11: 31
A12: ='01.TCD'!A10 -> UBND xã A | B12: =C12+D12 -> 0 | C12: 0 | D12: 0 | E12: ='03.XLD'!V9 -> 0 | F12: 0 | G12: 0 | H12: 0 | I12: =Z12+AB12+AD12 -> 0 | J12: 0 | K12: 0 | L12: 0 | M12: 0 | N12: 0 | O12: 0 | P12: 0 | Q12: 0 | R12: 0 | S12: 0 | T12: 0 | U12: 0 | V12: 0 | W12: 0 | X12: 0 | Y12: 0 | Z12: 0 | AA12: 0 | AB12: 0 | AC12: 0 | AD12: 0 | AE12: 0 | AF12: 0 | AG12: ='01.TCD'!$AE$10 -> 45884 | AH12: ='01.TCD'!$AF$10 -> 45853 | AI12: ='01.TCD'!$AG$10 -> 45883 | AJ12: ='01.TCD'!$M$4 -> …./BC-… | AK12: =IF(OR(ISNUMBER(SEARCH("Sở",'01.TCD'!$A$10)),ISNUMBER(SEARCH("Ban",'01.TCD'!$A$10)),ISNUMBER(SEARCH("Thanh tra",'01.TCD'!$A$10))),"Sở, ngành",IF(ISNUMBER(SEARCH("UBND",'01.TCD'!$A$10)),"Cấp xã","Khác")) -> Cấp xã
B13: =IF(B12<>'01.XLD'!Q11,"Xem lại","") | G13: =IF(AND(G12=SUM(H12:K12),G12=SUM(AE12:AF12),G12>=(Y12+AA12+AC12)),"","Xem lại") | U13: =IF(U12>T12,"Xem lại","") | X13: =IF(X12>W12,"Xem lại","")
A14: 32. Ghi chú:
A15: Hướng dẫn cách ghi biểu
A16: - Cột "Đơn vị" để ghi tên các đơn vị trực thuộc
A17: - Cột (1) = Cột (2) + (3) = Cột (16) thuộc Biểu 01/XLD
A18: - Cột (4) = Cột (21) thuộc Biểu 03/XLD
A19: - Cột (5): Số vụ việc tố cáo tiếp thuộc thẩm quyền, số liệu nằm trong số liệu vụ việc tố cáo thuộc thẩm quyền thống kê tại Cột (4)
A20: - Cột (6)= (7) + (8) + (9) + (10)= (30) + (31) >= Cột (24) + (26) + (28)
A21: - Cột (8): Tổng số vụ việc tố cáo tiếp đã được giải quyết = Cột (25) + (27) + (29)
A22: - Từ Cột (11) trở đi là số liệu tổng hợp, phân tích đối với kết quả giải quyết các vụ việc tố cáo đã thống kê ở Cột (6)
A23: - Cột (19): Thống kê số người bị kiến nghị xử lý hành chính theo kết luận nội dung tố cáo và xử lý tố cáo
A24: - Cột (20): Thống kê số cán bộ, công chức, viên chức bị kiến nghị xử lý hành chính theo kết luận nội dung tố cáo và xử lý tố cáo (<= Cột 19)
A25: - Cột (22): Thống kê số đối tượng bị kiến nghị chuyển cơ quan điều tra tiếp tục xử lý theo kết luận nội dung tố cáo và xử lý tố cáo
... A30: - Nội dung ghi chú viết vào dòng 32 (nếu có)

Sheet 04.KQGQ
W1: Biểu số: 04/KQGQ
A2: TỔNG HỢP KẾT QUẢ THỰC HIỆN KẾT LUẬN NỘI DUNG TỐ CÁO
G3: ='01.TCD'!$I$3 -> 45853 | N3: ='01.TCD'!$O$3 -> 45883
F4: ='01.TCD'!$I$4 -> (Kèm theo Báo cáo số | J4: ='01.TCD'!$M$4 -> …./BC-… | L4: ='01.TCD'!$O$4 -> ngày | M4: ='01.TCD'!$P$4 -> 45884 | O4: của | P4: ='01.TCD'!$T$4 -> UBND xã A)
A6: Đơn vị | B6: Tổng số kết luận phải thực hiện | C6: Số kết luận đã thực hiện xong | D6: Thu hồi cho Nhà nước | H6: Trả lại cho tổ chức, cá nhân | T6: Đã xử lý hành chính | W6: Đã khởi tố
D7: Phải thu | F7: Đã thu | H7: Phải trả | N7: Đã trả | T7: Tổng số tổ chức bị xử lý | U7: Tổng số cá nhân bị xử lý | V7: Trong đó số cán bộ, công chức, viên chức | W7: Số vụ | X7: Số đối tượng | Y7: Trong đó số cán bộ, công chức, viên chức
D8: Tiền (Trđ) | E8: Đất (m2) | F8: Tiền (Trđ) | G8: Đất (m2) | H8: Số tổ chức phải được trả lại quyền lợi | I8: Số cá nhân phải được trả lại quyền lợi | J8: Tổ chức | L8: Cá nhân | N8: Số tổ chức đã được trả lại quyền lợi | O8: Số cá nhân đã được trả lại quyền lợi | P8: Tổ chức | R8: Cá nhân
J9: Tiền (Trđ) | K9: Đất (m2) | L9: Tiền (Trđ) | M9: Đất (m2) | P9: Tiền (Trđ) | Q9: Đất (m2) | R9: Tiền (Trđ) | S9: Đất (m2) | Z9: Ngày báo cáo | AA9: Ngày tính số liệu | AB9: Ngày kết thúc dữ liệu | AC9: Số báo cáo | AD9: Loại đơn vị
A10: MS | B10: 1 | C10: 2 | D10: 3 | E10: 4 | F10: 5 | G10: 6 | H10: 7 | I10: 8 | J10: 9 | K10: 10 | L10: 11 | M10: 12 | N10: 13 | O10: 14 | P10: 15 | Q10: 16 | R10: 17 | S10: 18 | T10: 19 | U10: 20 | V10: 21 | W10: 22 | X10: 23 | Y10: 24
A11: ='01.TCD'!A10 -> UBND xã A | B11: 0 | C11: 0 | D11: 0 | E11: 0 | F11: 0 | G11: 0 | H11: 0 | I11: 0 | J11: 0 | K11: 0 | L11: 0 | M11: 0 | N11: 0 | O11: 0 | P11: 0 | Q11: 0 | R11: 0 | S11: 0 | T11: 0 | U11: 0 | V11: 0 | W11: 0 | X11: 0 | Y11: 0 | Z11: ='01.TCD'!$AE$10 -> 45884 | AA11: ='01.TCD'!$AF$10 -> 45853 | AB11: ='01.TCD'!$AG$10 -> 45883 | AC11: ='01.TCD'!$M$4 -> …./BC-… | AD11: =IF(OR(ISNUMBER(SEARCH("Sở",'01.TCD'!$A$10)),ISNUMBER(SEARCH("Ban",'01.TCD'!$A$10)),ISNUMBER(SEARCH("Thanh tra",'01.TCD'!$A$10))),"Sở, ngành",IF(ISNUMBER(SEARCH("UBND",'01.TCD'!$A$10)),"Cấp xã","Khác")) -> Cấp xã
A13: 25. Ghi chú:
A14: Hướng dẫn cách ghi biểu
A15: - Cột "Đơn vị" để ghi tên các đơn vị trực thuộc
A16: - Cột (1): Số kết luận nội dung tố cáo, xử lý tố cáo phải thực hiện trong kỳ (bao gồm số kết luận, xử lý tố cáo chưa thực hiện xong của kỳ báo cáo trước chuyển sang và số kết luận, xử lý tố cáo ban hành trong kỳ báo cáo phải thực hiện)
A17: - Cột (2) Số kết luận nội dung tố cáo, xử lý tố cáo đã thực hiện xong trong kỳ báo cáo
A18: - Cột (19): Thống kê số tổ chức đã xử lý hành chính theo kết luận nội dung tố cáo và xử lý tố cáo
A19: - Cột (21): Thống kê số cán bộ, công chức, viên chức đã xử lý hành chính theo kết luận nội dung tố cáo và xử lý tố cáo (<= Cột 20)
A20: - Cột (23): Thống kê số đối tượng đã chuyển cơ quan điều tra tiếp tục xử lý theo kết luận nội dung tố cáo và xử lý tố cáo
A21: - Cột (24): Thống kê số cán bộ, công chức, viên chức đã chuyển cơ quan điều tra tiếp tục xử lý theo kết luận nội dung tố cáo và xử lý tố cáo (<= Cột 23)
A22: - Nội dung ghi chú viết vào dòng 25 (nếu có)

Sheet 03.QLNN
R1: Biểu số: 03/QLNN
A2: TỔNG HỢP CÔNG TÁC QUẢN LÝ NHÀ NƯỚC VỀ TIẾP CÔNG DÂN, KHIẾU NẠI, TỐ CÁO
D3: ='01.TCD'!$I$3 -> 45853 | K3: ='01.TCD'!$O$3 -> 45883
C4: ='01.TCD'!$I$4 -> (Kèm theo Báo cáo số | G4: ='01.TCD'!$M$4 -> …./BC-… | I4: ='01.TCD'!$O$4 -> ngày | J4: ='01.TCD'!$P$4 -> 45884 | L4: của | M4: ='01.TCD'!$T$4 -> UBND xã A)
A6: Đơn vị | B6: Ban hành văn bản quản lý, chỉ đạo (Bộ, ngành, tỉnh, TP) về công tác TCD, KN, TC | E6: Tập huấn, tuyên truyền, giáo dục pháp luật về TCD, KN, TC | G6: Thanh tra trách nhiệm | N6: Kết quả thực hiện kết luận, quyết định xử lý về thanh tra trách nhiệm
B7: Số văn bản ban hành mới | C7: Số văn bản được sửa đổi, bổ sung | D7: Số văn bản hủy bỏ | E7: Số lớp | F7: Số người | G7: Thực hiện pháp luật về TCD, KN, TC | I7: Số cuộc đã ban hành kết luận | J7: Kiến nghị xử lý | N7: Tổng số KLTT thực hiện | O7: Đã xử lý hành chính | Q7: Đã khởi tố
G8: Số cuộc | H8: Số đơn vị | J8: Hành chính | L8: Chuyển cơ quan điều tra | O8: Tổ chức | P8: Cá nhân | Q8: Vụ | R8: Đối tượng
J9: Tổ chức | K9: Cá nhân | L9: Tổ chức | M9: Cá nhân | S9: Ngày báo cáo | T9: Ngày tính số liệu | U9: Ngày kết thúc dữ liệu | V9: Số báo cáo | W9: Loại đơn vị
A10: MS | B10: 1 | C10: 2 | D10: 3 | E10: 4 | F10: 5 | G10: 6 | H10: 7 | I10: 8 | J10: 9 | K10: 10 | L10: 11 | M10: 12 | N10: 13 | O10: 14 | P10: 15 | Q10: 16 | R10: 17
A11: ='01.TCD'!A10 -> UBND xã A | B11: 0 | C11: 0 | D11: 0 | E11: 0 | F11: 0 | G11: 0 | H11: 0 | I11: 0 | J11: 0 | K11: 0 | L11: 0 | M11: 0 | N11: 0 | O11: 0 | P11: 0 | Q11: 0 | R11: 0 | S11: ='01.TCD'!$AE$10 -> 45884 | T11: ='01.TCD'!$AF$10 -> 45853 | U11: ='01.TCD'!$AG$10 -> 45883 | V11: ='01.TCD'!$M$4 -> …./BC-… | W11: =IF(OR(ISNUMBER(SEARCH("Sở",'01.TCD'!$A$10)),ISNUMBER(SEARCH("Ban",'01.TCD'!$A$10)),ISNUMBER(SEARCH("Thanh tra",'01.TCD'!$A$10))),"Sở, ngành",IF(ISNUMBER(SEARCH("UBND",'01.TCD'!$A$10)),"Cấp xã","Khác")) -> Cấp xã
A13: 18. Ghi chú:
A14: Hướng dẫn cách ghi biểu
A15: - Cột (6): Tổng số cuộc thanh tra trách nhiệm thực hiện pháp luật về TCD, KN, TC thực hiện trong kỳ báo cáo, gồm các cuộc triển khai từ kỳ trước chưa ban hành kết luận và các cuộc triển khai trong kỳ
A16: - Cột (7): Tổng số đơn vị được thanh tra trách nhiệm (theo quyết định của các cuộc thanh tra thống kê tại Cột (6))
A17: - Cột (8): Tổng số kết luận thanh tra ban hành trong kỳ báo cáo; Cột (8) <= Cột (6)
A18: - Từ Cột (9) đến Cột (13) là số liệu tổng hợp từ các kết luận thanh tra thống kê tại Cột (12))
A19: - Cột (13): Tổng số kết luận thanh tra trách nhiệm phải thực hiện trong kỳ, gồm kết luận ban hành từ các kỳ trước chưa thực hiện xong và kết luận ban hành trong kỳ báo cáo phải thực hiện
A20: - Từ Cột (14) đến Cột (17) là số liệu tổng hợp từ kết quả thực hiện các kết luận thanh tra thống kê tại Cột (13))
A21: - Nội dung ghi chú viết vào dòng 18 (nếu có)
